BEGIN:VCALENDAR
VERSION:2.0
PRODID:-//UnfilteredPresents - ECPv6.5.0//NONSGML v1.0//EN
CALSCALE:GREGORIAN
METHOD:PUBLISH
X-ORIGINAL-URL:https://unfilteredpresents.com
X-WR-CALDESC:Events for UnfilteredPresents
REFRESH-INTERVAL;VALUE=DURATION:PT1H
X-Robots-Tag:noindex
X-PUBLISHED-TTL:PT1H
BEGIN:VTIMEZONE
TZID:UTC
BEGIN:STANDARD
TZOFFSETFROM:+0000
TZOFFSETTO:+0000
TZNAME:UTC
DTSTART:20230101T000000
END:STANDARD
END:VTIMEZONE
BEGIN:VEVENT
DTSTART;TZID=UTC:20230526T223000
DTEND;TZID=UTC:20230527T030000
DTSTAMP:20260424T093631
CREATED:20230516T053019Z
LAST-MODIFIED:20230830T021920Z
UID:21500-1685140200-1685156400@unfilteredpresents.com
SUMMARY:Flashback Friday (Taylor's Version) - 2000s Party (26th May 2023)
DESCRIPTION:Swifties! This one’s for you. \nFlashback Friday is back for another night of the 2000s and what’s a throwback night without a tribute to one of the biggest stars of the decade? That’s right\, we’ll be dedicating one hour of the night to the one and only Taylor Swift! \nThis pop-up has extremely limited slots available so grab your tickets early! \nCome dressed in your best 2000s-themed clothing and take a time machine back to the 2000s!\n\n🔞 This is an 18-year-old and above event.\n😷 Masks are optional.\n💉 Pre-event testing no longer required.\n⛔ Standard club rules apply. \nPlease fill up this form for table reservations.
URL:https://unfilteredpresents.com/event/flashback-friday-050523-2/
LOCATION:Hard Rock Cafe\, 50 Cuscaden Rd\, #02-01 Hpl House\, 249724\, Singapore
ATTACH;FMTTYPE=image/webp:https://unfilteredpresents.com/wp-content/uploads/2023/05/Ffb-taylor.webp
ORGANIZER;CN="UnfilteredPresents":MAILTO:info@unfiltered.sg
END:VEVENT
END:VCALENDAR