BEGIN:VCALENDAR
VERSION:2.0
PRODID:-//UnfilteredPresents - ECPv6.5.0//NONSGML v1.0//EN
CALSCALE:GREGORIAN
METHOD:PUBLISH
X-ORIGINAL-URL:https://unfilteredpresents.com
X-WR-CALDESC:Events for UnfilteredPresents
REFRESH-INTERVAL;VALUE=DURATION:PT1H
X-Robots-Tag:noindex
X-PUBLISHED-TTL:PT1H
BEGIN:VTIMEZONE
TZID:UTC
BEGIN:STANDARD
TZOFFSETFROM:+0000
TZOFFSETTO:+0000
TZNAME:UTC
DTSTART:20230101T000000
END:STANDARD
END:VTIMEZONE
BEGIN:VEVENT
DTSTART;TZID=UTC:20230714T223000
DTEND;TZID=UTC:20230715T223000
DTSTAMP:20260424T062412
CREATED:20230704T203623Z
LAST-MODIFIED:20230830T021827Z
UID:21511-1689373800-1689460200@unfilteredpresents.com
SUMMARY:Flashback Friday - 2000s Party (14 July 2023)
DESCRIPTION:Flashback Friday is back for another night of the 2000s and this time we’re bringing you the BATTLE OF THE BANDS. 🎸 \nWe’re time traveling back to the MTV days which brought us a diverse range of band music – from energetic pop-punk anthems to introspective alternative rock\, the era produced many memorable bands that helped shape the sound of the decade! Expect to hear familiar songs from Green Day\, Linkin Park\, Panic! At The Disco\, The Click Five\, My Chemical Romance\, Fall Out Boy and more! \nBut don’t forget to dance🕺💃 and sing your lungs out to all your other favourite 2000s top hits for the rest of the night with songs from Britney Spears\, Usher\, Eminem\, Avril Lavigne\, Maroon 5\, Taylor Swift and even some High School Musical singalongs. \nJoin us for a night of nostalgia with @_slumsofshafiq_ & @kiddroyalemusic at @hardrockcafesingapore! 🤘 \n😷 Masks are optional.\n⛔ Standard club rules apply.\n👟 Strictly NO slippers allowed into the event.\n🚫 No refunds of tickets allowed.\n🔞 This is an 18-year-old and above event. Please bring any form of identification along for verification purposes.
URL:https://unfilteredpresents.com/event/flashback-friday-140723-2/
LOCATION:Hard Rock Cafe\, 50 Cuscaden Rd\, #02-01 Hpl House\, 249724\, Singapore
ATTACH;FMTTYPE=image/webp:https://unfilteredpresents.com/wp-content/uploads/2023/07/aaa-1.webp
ORGANIZER;CN="UnfilteredPresents":MAILTO:info@unfiltered.sg
END:VEVENT
END:VCALENDAR