BEGIN:VCALENDAR
VERSION:2.0
PRODID:-//UnfilteredPresents - ECPv6.5.0//NONSGML v1.0//EN
CALSCALE:GREGORIAN
METHOD:PUBLISH
X-ORIGINAL-URL:https://unfilteredpresents.com
X-WR-CALDESC:Events for UnfilteredPresents
REFRESH-INTERVAL;VALUE=DURATION:PT1H
X-Robots-Tag:noindex
X-PUBLISHED-TTL:PT1H
BEGIN:VTIMEZONE
TZID:UTC
BEGIN:STANDARD
TZOFFSETFROM:+0000
TZOFFSETTO:+0000
TZNAME:UTC
DTSTART:20230101T000000
END:STANDARD
END:VTIMEZONE
BEGIN:VEVENT
DTSTART;TZID=UTC:20230825T223000
DTEND;TZID=UTC:20230826T023000
DTSTAMP:20260424T045931
CREATED:20230817T020000Z
LAST-MODIFIED:20230830T021717Z
UID:21516-1693002600-1693017000@unfilteredpresents.com
SUMMARY:Block Party (Hip-hop\, R&B\, Rap) by UnfilteredPresents
DESCRIPTION:From the streets to the stage\, UnfilteredPresent’s Block Party celebrates the Hip-Hop\, R&B and Rap scene as we groove the night away to old AND new school Hip-hop. From the 2000s to today’s legends\, DJ Brizzy and Dj SOS will be spinning hits from Travis Scott\, J. Cole\, Eminem\, Dr. Dre\, The Weeknd\, SZA\, Dj Khaled and many other amazing artists! \n🔞 This is an 18-year-old and above event.\n😷 Masks are optional.\n💉 Pre-event testing no longer required.\n⛔ Standard club rules apply.\n🚫 No refunds of tickets allowed. \nPlease fill up this Form for table reservations!
URL:https://unfilteredpresents.com/event/block-party-hip-hop-rb-rap-by-unfilteredpresents/
LOCATION:The Projector X: No Spoilers Bar\, 8 Grange Rd\, #05-03\, 239695\, Singapore
ATTACH;FMTTYPE=image/webp:https://unfilteredpresents.com/wp-content/uploads/2023/08/unfilterededed-1.webp
ORGANIZER;CN="UnfilteredPresents":MAILTO:info@unfiltered.sg
END:VEVENT
END:VCALENDAR