BEGIN:VCALENDAR
VERSION:2.0
PRODID:-//UnfilteredPresents - ECPv6.5.0//NONSGML v1.0//EN
CALSCALE:GREGORIAN
METHOD:PUBLISH
X-WR-CALNAME:UnfilteredPresents
X-ORIGINAL-URL:https://unfilteredpresents.com
X-WR-CALDESC:Events for UnfilteredPresents
REFRESH-INTERVAL;VALUE=DURATION:PT1H
X-Robots-Tag:noindex
X-PUBLISHED-TTL:PT1H
BEGIN:VTIMEZONE
TZID:UTC
BEGIN:STANDARD
TZOFFSETFROM:+0000
TZOFFSETTO:+0000
TZNAME:UTC
DTSTART:20230101T000000
END:STANDARD
END:VTIMEZONE
BEGIN:VEVENT
DTSTART;TZID=UTC:20230929T223000
DTEND;TZID=UTC:20230930T030000
DTSTAMP:20260424T001314
CREATED:20230923T213112Z
LAST-MODIFIED:20230923T213112Z
UID:21624-1696026600-1696042800@unfilteredpresents.com
SUMMARY:Flashback Friday - 2000s Party in Singapore (24th September 2023)
DESCRIPTION:For ONE HOUR of the night\, you get to delve into a spectacular night of Gaga Glamour and party to your favourite hits like Poker Face\, Telephone\, Bad Romance\, Born This Way\, and many more! 🥹 \nDon’t forget to dance🕺💃 and sing at the top of your voices to all your other favourite 2000s hits for the rest of the night with songs from Britney Spears\, Usher\, Eminem\, Avril Lavigne\, Maroon 5\, Taylor Swift and even some High School Musical singalongs. \nJoin us for a night of nostalgia with @djgainzter & @kiddroyalemusic at @hardrockcafesingapore! 🤘 \n🔞 This is an 18-year-old and above event (Present physical ID or SingPass)\n⛔ Standard club rules apply\, no slippers or sandals.\n🚫 No refunds of tickets allowed.\n📸 Organizer reserves the right to use photographs or videos taken during the event for advertising or publicity purposes. \nFill up this form for table reservations!
URL:https://unfilteredpresents.com/event/flashback-friday-140723-2-2/
LOCATION:Hard Rock Cafe\, 50 Cuscaden Rd\, #02-01 Hpl House\, 249724\, Singapore
ATTACH;FMTTYPE=image/webp:https://unfilteredpresents.com/wp-content/uploads/2023/09/HAUS-OF-GAGA2.webp
ORGANIZER;CN="UnfilteredPresents":MAILTO:info@unfiltered.sg
END:VEVENT
END:VCALENDAR