BEGIN:VCALENDAR
VERSION:2.0
PRODID:-//UnfilteredPresents - ECPv6.5.0//NONSGML v1.0//EN
CALSCALE:GREGORIAN
METHOD:PUBLISH
X-WR-CALNAME:UnfilteredPresents
X-ORIGINAL-URL:https://unfilteredpresents.com
X-WR-CALDESC:Events for UnfilteredPresents
REFRESH-INTERVAL;VALUE=DURATION:PT1H
X-Robots-Tag:noindex
X-PUBLISHED-TTL:PT1H
BEGIN:VTIMEZONE
TZID:Asia/Singapore
BEGIN:STANDARD
TZOFFSETFROM:+0800
TZOFFSETTO:+0800
TZNAME:+08
DTSTART:20240101T000000
END:STANDARD
END:VTIMEZONE
BEGIN:VEVENT
DTSTART;TZID=Asia/Singapore:20240202T190000
DTEND;TZID=Asia/Singapore:20240202T220000
DTSTAMP:20260423T180611
CREATED:20240129T044502Z
LAST-MODIFIED:20240129T044502Z
UID:21654-1706900400-1706911200@unfilteredpresents.com
SUMMARY:[Samsung x UnfilteredPresents] Flashback Friday: Sing & Win (2nd February 2024)
DESCRIPTION:Samsung x UnfilteredPresents is bringing you Flashback Friday: Sing & Win!\n📍Civic Plaza @ Ngee Ann City |🍻 Entry consists of FREE beer! 🍻 \nIn collaboration with Samsung\, join us for a fun-filled time at our first ever Flashback Friday: Sing & Win! Get ready to rewind the clock and relive the good times as we transport ourselves back to the fabulous 2000s! 🕰️ \n💃🏻 Party along to 2000s music\nShow off your moves on the dance floor as we party to the biggest 2000s hits! Unleash your inner rockstar and transport yourself back to the era of flip phones\, denim-on-denim\, and unforgettable tunes! \n🪇 Complete the lyrics\nGather your friends\, brush up on your lyrical memory\, and get ready to compete for the title of Ultimate 2000s Lyric Master. We’ll have prizes\, nostalgia\, and a whole lot of fun in store! \n🎶 Guess the song\nPut your musical knowledge to the test in the ultimate 2000s ‘Guess the Song’ challenge! 🎶 Join us for an evening of sonic nostalgia as we challenge your memory with snippets from the chart-topping hits that defined the soundtrack of the 2000s. \n🎤 Karaoke Extravaganza \nTurn up the nostalgia and relive the glory days of the 2000s with our electrifying 2000s Karaoke segment! 🌟 Step into the spotlight\, grab the mic\, and unleash your inner pop sensation as we take a sonic journey through the hits that defined an unforgettable era. \n👑 Free Photobooth powered by Samsung\nDig out those low-rise jeans\, cargo pants\, butterfly clips\, and all your favorite 2000s fashion trends. Whether you’re channeling the pop princess vibes of Britney Spears\, the skater chic of Avril Lavigne\, or the laid-back style of Ashton Kutcher\, bring your A-game and let’s turn this party into a fashion time capsule! \n🔞 This is an 18-year-old and above event (Present physical ID or SingPass)\n⚠️ This is a FREE event open to the first 100 registrations only.\n📸 Organizer reserves the right to use photographs or videos taken during the event for advertising or publicity purposes.
URL:https://unfilteredpresents.com/event/flashback-friday-140723-2-2-2-2-2-2/
LOCATION:Civic Plaza #08\, 391A Orchard Road\, #5 Watsons Singapore – Ngee Ann City (Click & Collect)
ATTACH;FMTTYPE=image/webp:https://unfilteredpresents.com/wp-content/uploads/2024/01/2024-01-29-13.42.32.webp
ORGANIZER;CN="UnfilteredPresents":MAILTO:info@unfiltered.sg
END:VEVENT
BEGIN:VEVENT
DTSTART;TZID=Asia/Singapore:20240202T223000
DTEND;TZID=Asia/Singapore:20240203T023000
DTSTAMP:20260423T180611
CREATED:20240129T043602Z
LAST-MODIFIED:20240129T043602Z
UID:21650-1706913000-1706927400@unfilteredpresents.com
SUMMARY:The Eras Tour Pre-Game Singapore (2nd February 2024\, Friday)
DESCRIPTION:Swifties\, we’ve got you covered! Come prepare with us for the big day 1 month ahead of the concert 🦋 \nWe’re collaborating with @sg.swifties to dedicate this special night just for all of you! \nFrom the ENTIRE setlist of the special upcoming concert\, to practicing chants and finding new concert buddies\, it will definitely be a ✨ core memory ✨ \nFlaunt your Era’s outfit that you’ve been working so hard on\, answer some trivia questions\, and stand a chance to walk away with some of our prizes! \n———————————————————— \nTickets\n– Early Bird Ticket: $28 [Sold Out]\n– General Admissions: $30\n– Event Day Ticket: $35 \nTable reservations*\n– Table Reservation: 5-pax | $400 min. spend (Deposit)\n– Table Reservation: 10-pax | $800 min. spend (Deposit) \n*Organiser will contact guests via Peatix messaging to confirm table reservation! \n———————————————————— \n🔞 This is an 18-year-old and above event (Present physical ID or SingPass) \n⛔ Standard club rules apply\, no slippers or sandals. Shorts allowed.\n🚫 No refunds of tickets allowed.\n🥂 Table reservations deposit will be refunded once pre-ordered bottles have been paid for. No refunds will be given for no-show.\n📸 Organizer reserves the right to use photographs or videos taken during the event for advertising or publicity purposes.\nTickets\n– Early Bird Ticket: $28\n– General Admissions: $30\n– Event Day Ticket: $35 \nTable reservations*\n– Table Reservation: 5-pax | $400 min. spend (Deposit)\n– Table Reservation: 10-pax | $800 min. spend (Deposit) \n*Organiser will contact guests via Peatix messaging to confirm table reservation \n——————————————————————————— \n🔞 This is an 18-year-old and above event (Present physical ID or SingPass)\n⛔ Standard club rules apply\, no slippers or sandals. Shorts allowed.\n🚫 No refunds of tickets allowed.\n🥂 Table reservations deposit will be refunded once pre-ordered bottles have been paid for. No refunds will be given for no-show.\n📸 Organizer reserves the right to use photographs or videos taken during the event for advertising or publicity purposes.
URL:https://unfilteredpresents.com/event/theerastourpregame/
LOCATION:The Projector X: No Spoilers Bar\, 8 Grange Rd\, #05-03\, 239695\, Singapore
ATTACH;FMTTYPE=image/webp:https://unfilteredpresents.com/wp-content/uploads/2024/01/2024-01-29-13.33.59.webp
END:VEVENT
END:VCALENDAR