BEGIN:VCALENDAR
VERSION:2.0
PRODID:-//UnfilteredPresents - ECPv6.5.0//NONSGML v1.0//EN
CALSCALE:GREGORIAN
METHOD:PUBLISH
X-WR-CALNAME:UnfilteredPresents
X-ORIGINAL-URL:https://unfilteredpresents.com
X-WR-CALDESC:Events for UnfilteredPresents
REFRESH-INTERVAL;VALUE=DURATION:PT1H
X-Robots-Tag:noindex
X-PUBLISHED-TTL:PT1H
BEGIN:VTIMEZONE
TZID:UTC
BEGIN:STANDARD
TZOFFSETFROM:+0000
TZOFFSETTO:+0000
TZNAME:UTC
DTSTART:20240101T000000
END:STANDARD
END:VTIMEZONE
BEGIN:VEVENT
DTSTART;TZID=UTC:20240329T223000
DTEND;TZID=UTC:20240330T023000
DTSTAMP:20260423T164138
CREATED:20240324T224623Z
LAST-MODIFIED:20240324T224623Z
UID:21689-1711751400-1711765800@unfilteredpresents.com
SUMMARY:The Eras Tour End-Game Singapore (29th March 2024\, Friday)
DESCRIPTION:Swifties! It’s not the end of the Eras Tour just yet. In collaboration with @sg.swifties\, we got one more leg of the tour just for you guys! Come join us for an entire night of surprise songs from debut to Midnights (we got chu 😉). Anticipate a night of singing\, crying and SCREAMMING for The Last Time (looking at all the folklore girlies 👀). \nLet’s trade bracelets\, scream our chants and make one last memory to close up our post concert depression. 😭 \nWelcome to the Eras Tour Endgame\, we’re unfilteredpresents and we’ll be your host for the evening. 👋🏻 \n—————————————- \nTickets\n– Early Bird Ticket: $28\n– General Admissions: $30\n– Event Day Ticket: $35 \nTable reservations*\n– Table Reservation: 5-pax | $400 min. spend (Deposit)\n– Table Reservation: 10-pax | $800 min. spend (Deposit)\n*Organiser will contact guests via Peatix messaging to confirm table reservation! \n—————————————- \n🔞 This is an 18-year-old and above event (Present physical ID or SingPass)\n⛔ Standard club rules apply\, no slippers or sandals. Shorts allowed.\n🚫 No refunds of tickets allowed.\n🥂 Table reservations deposit will be refunded once pre-ordered bottles have been paid for. No refunds will be given for no-show.\n📸 Organizer reserves the right to use photographs or videos taken during the event for advertising or publicity purposes.
URL:https://unfilteredpresents.com/event/theerastourpregame-2/
LOCATION:The Projector X: No Spoilers Bar\, 8 Grange Rd\, #05-03\, 239695\, Singapore
ATTACH;FMTTYPE=image/webp:https://unfilteredpresents.com/wp-content/uploads/2024/03/main-eras-end-game.webp
ORGANIZER;CN="UnfilteredPresents":MAILTO:info@unfiltered.sg
END:VEVENT
END:VCALENDAR