BEGIN:VCALENDAR
VERSION:2.0
PRODID:-//UnfilteredPresents - ECPv6.5.0//NONSGML v1.0//EN
CALSCALE:GREGORIAN
METHOD:PUBLISH
X-ORIGINAL-URL:https://unfilteredpresents.com
X-WR-CALDESC:Events for UnfilteredPresents
REFRESH-INTERVAL;VALUE=DURATION:PT1H
X-Robots-Tag:noindex
X-PUBLISHED-TTL:PT1H
BEGIN:VTIMEZONE
TZID:UTC
BEGIN:STANDARD
TZOFFSETFROM:+0000
TZOFFSETTO:+0000
TZNAME:UTC
DTSTART:20240101T000000
END:STANDARD
END:VTIMEZONE
BEGIN:VEVENT
DTSTART;TZID=UTC:20240510T223000
DTEND;TZID=UTC:20240511T030000
DTSTAMP:20260423T130624
CREATED:20240502T015559Z
LAST-MODIFIED:20240502T015559Z
UID:21697-1715380200-1715396400@unfilteredpresents.com
SUMMARY:Flashback Friday - 2000s Party in Singapore (10th May 2024)
DESCRIPTION:Dust off your cargo pants\, baby tees\, and low-rise jeans because it’s time for another night of Flashback Friday! \nWanna dance and sing your lungs out to your favourite 2000s top hits all night? Then this is not a night to miss! Playing songs from Britney Spears\, Usher\, Eminem\, Avril Lavigne\, Maroon 5\, Taylor Swift and even some High School Musical singalongs\, we have everything queued up! \nCome dressed up in your costumes and take a time machine back to the 2000s! 👻 \n—————————————— \nTickets\n– Early Bird Ticket: $28\n– General Admissions: $30\n– Event Day Ticket: $35 \nTable reservations*\n– Table Reservation: 5-pax | $400 min. spend (Deposit)\n– Table Reservation: 10-pax | $800 min. spend (Deposit)\n*Organiser will contact guests via Peatix messaging to confirm table reservation! \n—————————————— \n🔞 This is an 18-year-old and above event (Present physical ID or SingPass)\n⛔ Standard club rules apply\, no slippers or sandals. Shorts allowed.\n🚫 No refunds of tickets allowed.\n🥂 Table reservations deposit will be refunded once pre-ordered bottles have been paid for. No refunds will be given for no-show.\n📸 Organizer reserves the right to use photographs or videos taken during the event for advertising or publicity purposes.
URL:https://unfilteredpresents.com/event/flashback-friday-070322-2/
LOCATION:Hard Rock Cafe\, 50 Cuscaden Rd\, #02-01 Hpl House\, 249724\, Singapore
ATTACH;FMTTYPE=image/webp:https://unfilteredpresents.com/wp-content/uploads/2024/05/fbf_main_15may.webp
ORGANIZER;CN="UnfilteredPresents":MAILTO:info@unfiltered.sg
END:VEVENT
END:VCALENDAR