BEGIN:VCALENDAR
VERSION:2.0
PRODID:-//UnfilteredPresents - ECPv6.5.0//NONSGML v1.0//EN
CALSCALE:GREGORIAN
METHOD:PUBLISH
X-WR-CALNAME:UnfilteredPresents
X-ORIGINAL-URL:https://unfilteredpresents.com
X-WR-CALDESC:Events for UnfilteredPresents
REFRESH-INTERVAL;VALUE=DURATION:PT1H
X-Robots-Tag:noindex
X-PUBLISHED-TTL:PT1H
BEGIN:VTIMEZONE
TZID:Asia/Singapore
BEGIN:STANDARD
TZOFFSETFROM:+0800
TZOFFSETTO:+0800
TZNAME:+08
DTSTART:20240101T000000
END:STANDARD
END:VTIMEZONE
BEGIN:VEVENT
DTSTART;TZID=Asia/Singapore:20240601T223000
DTEND;TZID=Asia/Singapore:20240602T023000
DTSTAMP:20260423T112339
CREATED:20240518T082005Z
LAST-MODIFIED:20240518T084646Z
UID:21704-1717281000-1717295400@unfilteredpresents.com
SUMMARY:One Night In Seoul - KPOP Party in Singapore (1st June\, Saturday)
DESCRIPTION:Don’t wanna see you cry in the club because Life goes on and we Don’t need permission to dance so come show us what you’ve got! Who knows.. you might also be able to walk away with $100.. 👀 SHEESH \n—————————————— \nTickets\n– Early Bird Ticket: $19.95\n– General Admissions: $24.15\n– Event Day Ticket: $28\n* Prices are inclusive of 5% booking fee \nTable reservations*\n– Table Reservation: 5-pax | $400 min. spend (Deposit)\n– Table Reservation: 10-pax | $800 min. spend (Deposit)\n*Organiser will contact guests via Peatix messaging to confirm table reservation! \n—————————————— \n🔞 This is an 18-year-old and above event (Present physical ID or SingPass)\n⛔ Standard club rules apply\, no slippers or sandals. Shorts allowed.\n🚫 No refunds of tickets allowed.\n🥂 Table reservations deposit will be refunded once pre-ordered bottles have been paid for. No refunds will be given for no-show.\n📸 Organizer reserves the right to use photographs or videos taken during the event for advertising or publicity purposes.
URL:https://unfilteredpresents.com/event/onenightinseoul-120423-2-2-2-2-2-2/
LOCATION:The Projector X: No Spoilers Bar\, 8 Grange Rd\, #05-03\, 239695\, Singapore
ATTACH;FMTTYPE=image/webp:https://unfilteredpresents.com/wp-content/uploads/2024/05/1-june_onis-slide-1-1.webp
ORGANIZER;CN="UnfilteredPresents":MAILTO:info@unfiltered.sg
END:VEVENT
END:VCALENDAR