BEGIN:VCALENDAR
VERSION:2.0
PRODID:-//UnfilteredPresents - ECPv6.5.0//NONSGML v1.0//EN
CALSCALE:GREGORIAN
METHOD:PUBLISH
X-WR-CALNAME:UnfilteredPresents
X-ORIGINAL-URL:https://unfilteredpresents.com
X-WR-CALDESC:Events for UnfilteredPresents
REFRESH-INTERVAL;VALUE=DURATION:PT1H
X-Robots-Tag:noindex
X-PUBLISHED-TTL:PT1H
BEGIN:VTIMEZONE
TZID:UTC
BEGIN:STANDARD
TZOFFSETFROM:+0000
TZOFFSETTO:+0000
TZNAME:UTC
DTSTART:20240101T000000
END:STANDARD
END:VTIMEZONE
BEGIN:VEVENT
DTSTART;TZID=UTC:20240607T223000
DTEND;TZID=UTC:20240608T030000
DTSTAMP:20260423T112341
CREATED:20240523T130006Z
LAST-MODIFIED:20240523T020841Z
UID:21722-1717799400-1717815600@unfilteredpresents.com
SUMMARY:Flashback Friday - 2000s Party in Singapore (7th June 2024\, Friday)
DESCRIPTION:Flashback Friday is back but this time.. ON WHEELS 🛼!!! In collaboration with @rollermania4.0\, we are bringing you a whole new concept. Join us for a skating session between 8-10pm and party with us to the 2000s after 10:30pm 💿🪩 \nRemember to dress up in ur best 2000s outfits as we be will giving away a bucket of @tigerbeersg for our best dressed winner! 🍻 \nCome join us for a night of fun and nostalgia with @djgainzter\, @kiddroyalemusic\, @djbelle_ @yourboylings! See u guys there 😉 \nFREE Tiger Soju for the first 100 pax to enter! \n📍: The Xperience @ Clarke Quay\nBlk B\, #01-01 (Next to Tan Tye Place) \n🚫🛼 No skating during the event\, strictly between 8pm – 10pm only. \n—————————————— \nTickets \n– Early Bird Ticket: $28\n– General Admissions: $30\n– General Admission + Skates: $48\n– Event Day Ticket: $35 \nTable reservations*\n– Table Reservation: 5-pax | $400 min. spend (Deposit)\n– Table Reservation: 10-pax | $800 min. spend (Deposit)\n*Organiser will contact guests via Peatix messaging to confirm table reservation! \n—————————————— \n🔞 This is an 18-year-old and above event (Present physical ID or SingPass)\n⛔️ Standard club rules apply\, no slippers or sandals. Shorts allowed.\n🚫 No refunds of tickets allowed.\n🥂 Table reservations deposit will be refunded once pre-ordered bottles have been paid for. No refunds will be given for no-show.\n📸 Organizer reserves the right to use photographs or videos taken during the event for advertising or publicity purposes.
URL:https://unfilteredpresents.com/event/flashback-friday-070322-2-2/
LOCATION:The Xperience @ Clarke Quay\, Blk B\, #01-01 (Next to Tan Tye Place)\, Singapore
ATTACH;FMTTYPE=image/webp:https://unfilteredpresents.com/wp-content/uploads/2024/05/Rollermania_main.webp
ORGANIZER;CN="UnfilteredPresents":MAILTO:info@unfiltered.sg
END:VEVENT
END:VCALENDAR