BEGIN:VCALENDAR
VERSION:2.0
PRODID:-//UnfilteredPresents - ECPv6.5.0//NONSGML v1.0//EN
CALSCALE:GREGORIAN
METHOD:PUBLISH
X-ORIGINAL-URL:https://unfilteredpresents.com
X-WR-CALDESC:Events for UnfilteredPresents
REFRESH-INTERVAL;VALUE=DURATION:PT1H
X-Robots-Tag:noindex
X-PUBLISHED-TTL:PT1H
BEGIN:VTIMEZONE
TZID:Asia/Singapore
BEGIN:STANDARD
TZOFFSETFROM:+0800
TZOFFSETTO:+0800
TZNAME:+08
DTSTART:20240101T000000
END:STANDARD
END:VTIMEZONE
BEGIN:VEVENT
DTSTART;TZID=Asia/Singapore:20240712T223000
DTEND;TZID=Asia/Singapore:20240713T030000
DTSTAMP:20260423T095534
CREATED:20240620T114428Z
LAST-MODIFIED:20240620T114428Z
UID:21758-1720823400-1720839600@unfilteredpresents.com
SUMMARY:Flashback Friday - 2000s Disney/Nickelodeon Party in Singapore (12th July 2024\, Friday)
DESCRIPTION:What time is it?! It’s time for yet another trip back to the 2000s with Flashback Friday 🆙 \nFor one night\, relive your childhood memories with us and vibe to AN HOUR of nostalgic hits from Disney Channel and Nickelodeon. From iCarly to High School Musical\, we want to see you sing your heart out\, find your Troy to your Gabriella\, or pop off with some Hoedown Throwdown moves. \nWe think it’s the best time to prove you’ve had a solid childhood… or heal your inner child (we don’t talk about childhood trauma…) \nEvent details:\n📅 Date: 12 July 2024\n📍 Location: Hardrock Cafe\n🕙 Time: 10:30PM – 03:00AM \n—————————————— \nTickets\n– Early Bird Ticket: $23\n– General Admissions: $28\n– Event Day Ticket: $32 \nTable reservations*\n– Table Reservation: 5-pax | $400 min. spend (Deposit)\n– Table Reservation: 10-pax | $800 min. spend (Deposit)\n*Organiser will contact guests via Eventbrite messaging to confirm table reservation! \n—————————————— \n🔞 This is an 18-year-old and above event (Present physical ID or SingPass)\n⛔ Standard club rules apply\, no slippers or sandals. Shorts allowed.\n🚫 No refunds of tickets allowed.\n🥂 Table reservations deposit will be refunded once pre-ordered bottles have been paid for. No refunds will be given for no-show.\n📸 Organizer reserves the right to use photographs or videos taken during the event for advertising or publicity purposes. \n 
URL:https://unfilteredpresents.com/event/flashback-friday-070322-2-2-2/
LOCATION:Hard Rock Cafe\, 50 Cuscaden Rd\, #02-01 Hpl House\, 249724\, Singapore
ATTACH;FMTTYPE=image/webp:https://unfilteredpresents.com/wp-content/uploads/2024/06/MAIN-DISNIC-FBF.webp
ORGANIZER;CN="UnfilteredPresents":MAILTO:info@unfiltered.sg
END:VEVENT
END:VCALENDAR