BEGIN:VCALENDAR
VERSION:2.0
PRODID:-//UnfilteredPresents - ECPv6.5.0//NONSGML v1.0//EN
CALSCALE:GREGORIAN
METHOD:PUBLISH
X-ORIGINAL-URL:https://unfilteredpresents.com
X-WR-CALDESC:Events for UnfilteredPresents
REFRESH-INTERVAL;VALUE=DURATION:PT1H
X-Robots-Tag:noindex
X-PUBLISHED-TTL:PT1H
BEGIN:VTIMEZONE
TZID:Asia/Singapore
BEGIN:STANDARD
TZOFFSETFROM:+0800
TZOFFSETTO:+0800
TZNAME:+08
DTSTART:20250101T000000
END:STANDARD
END:VTIMEZONE
BEGIN:VEVENT
DTSTART;TZID=Asia/Singapore:20250411T223000
DTEND;TZID=Asia/Singapore:20250412T030000
DTSTAMP:20260422T183015
CREATED:20250317T102852Z
LAST-MODIFIED:20250401T124942Z
UID:21902-1744410600-1744426800@unfilteredpresents.com
SUMMARY:Flashback Friday - 2000s Party in Singapore (11th April 2025\, Friday)
DESCRIPTION:Alright besties\, this one’s for the real ones who grew up on Disney Channel and Nickelodeon 📺✨ \nBecause your favourite OG Disney and Nickelodeon night IS BACK! \nWe are thowing the ultimate throwback night and if you’re not there…. good luck being FOMO for the rest of your life… \nExpect to jam to High School Musical\, ICarly\, Big Time Rush\, Lizzie McGuire\, and soooooo many more of our favourite Disney and Nickelodeon hits! \nGet your tickets ASAP!! \nSee you there\, Wildcat. 👏🎶 \nEvent Details: \n🗓: 11th April 2025 \n🕙: 10:30 PM – 3:00 AM \n📍: Hard Rock Cafe \n—————————————— \nTickets \n– Early Bird Ticket: $23 \n– General Admissions: $28 \n– Event Day Ticket: $32 \nTable reservations* \n– Table Reservation: 5-pax | $400 min. spend (Deposit) \n– Table Reservation: 10-pax | $800 min. spend (Deposit) \n*Organiser will contact guests via Eventbrite messaging to confirm table reservation! \n—————————————— \n🔞 This is an 18-year-old and above event (Present physical ID or SingPass) \n⛔ Standard club rules apply\, no slippers or sandals. Shorts allowed. \n🚫 No refunds of tickets allowed. \n🥂 Table reservations deposit will be refunded once pre-ordered bottles have been paid for. No refunds will be given for no-show. \n📸 By attending the event\, the organizer reserves the right to use photographs or videos taken during the event for advertising or publicity purposes.
URL:https://unfilteredpresents.com/event/flashback-friday-11th-april-2025/
LOCATION:50 Cuscaden Rd\, #02-01 Hpl House\, Singapore 249724
ATTACH;FMTTYPE=image/webp:https://unfilteredpresents.com/wp-content/uploads/2025/03/fbf-artboard.webp
END:VEVENT
END:VCALENDAR