BEGIN:VCALENDAR
VERSION:2.0
PRODID:-//UnfilteredPresents - ECPv6.5.0//NONSGML v1.0//EN
CALSCALE:GREGORIAN
METHOD:PUBLISH
X-ORIGINAL-URL:https://unfilteredpresents.com
X-WR-CALDESC:Events for UnfilteredPresents
REFRESH-INTERVAL;VALUE=DURATION:PT1H
X-Robots-Tag:noindex
X-PUBLISHED-TTL:PT1H
BEGIN:VTIMEZONE
TZID:Asia/Singapore
BEGIN:STANDARD
TZOFFSETFROM:+0800
TZOFFSETTO:+0800
TZNAME:+08
DTSTART:20250101T000000
END:STANDARD
END:VTIMEZONE
BEGIN:VEVENT
DTSTART;TZID=Asia/Singapore:20250725T223000
DTEND;TZID=Asia/Singapore:20250726T030000
DTSTAMP:20260420T140002
CREATED:20250707T085051Z
LAST-MODIFIED:20250707T081843Z
UID:21945-1753482600-1753498800@unfilteredpresents.com
SUMMARY:EDM Anthems by UnfilteredPresents (25th July 2025\, Friday)
DESCRIPTION:We heard your battle cries🫡 EDM ANTHEMS IS BACK AND HERE TO STAY ALL NIGHT. \nDon’t You Worry Child\, We’re bringing the golden & new age of EDM straight to the dancefloor: Avicii\, Calvin Harris\, Zedd\, David Guetta\, Martin Garrix\, and MORE. \nCome get with me cause I like my beats fast and my bass down low. \n#DropItLikeItsEDM \nEvent Details:\n🗓: 25th July 2025 🧡 \n🕙: 10:30 PM – 3:00 AM \n📍: Pulse Singapore (179020) \n—————————————— \nTickets \n– Early Bird Ticket: $23 \n– General Admissions: $28 \n– Event Day Ticket: $32 \nTable reservations* \n– Table Reservation: 5-pax | $400 min. spend (Deposit) \n– Sofa Reservation: 10-pax | $800 min. spend (Deposit) \n*Organiser will contact guests via Eventbrite messaging to confirm table reservation! \n—————————————— \n🔞 This is an 18-year-old and above event (Present physical ID or SingPass) \n⛔ Standard club rules apply\, no slippers or sandals. Shorts allowed. \n🚫 No refunds of tickets allowed. \n🥂 Table reservations deposit will be refunded once pre-ordered bottles have been paid for. No refunds will be given for no-show. \n📸 By attending the event\, the organizer reserves the right to use photographs or videos taken during the event for advertising or publicity purposes.
URL:https://unfilteredpresents.com/event/pop-girls-club-taylors-version-by-unfilteredpresents-30th-may-2025-friday-2/
LOCATION:Pulse Singapore\, 3A River Valley Road\, #01-02 Clarke Quay\, Singapore\, Singapore\, 179020\, Singapore
ATTACH;FMTTYPE=image/webp:https://unfilteredpresents.com/wp-content/uploads/2025/07/main-3.webp
ORGANIZER;CN="UnfilteredPresents":MAILTO:info@unfiltered.sg
END:VEVENT
END:VCALENDAR