BEGIN:VCALENDAR
VERSION:2.0
PRODID:-//UnfilteredPresents - ECPv6.5.0//NONSGML v1.0//EN
CALSCALE:GREGORIAN
METHOD:PUBLISH
X-WR-CALNAME:UnfilteredPresents
X-ORIGINAL-URL:https://unfilteredpresents.com
X-WR-CALDESC:Events for UnfilteredPresents
REFRESH-INTERVAL;VALUE=DURATION:PT1H
X-Robots-Tag:noindex
X-PUBLISHED-TTL:PT1H
BEGIN:VTIMEZONE
TZID:Asia/Singapore
BEGIN:STANDARD
TZOFFSETFROM:+0800
TZOFFSETTO:+0800
TZNAME:+08
DTSTART:20250101T000000
END:STANDARD
END:VTIMEZONE
BEGIN:VEVENT
DTSTART;TZID=Asia/Singapore:20250711T223000
DTEND;TZID=Asia/Singapore:20250712T030000
DTSTAMP:20260420T154014
CREATED:20250623T075024Z
LAST-MODIFIED:20250623T080155Z
UID:21935-1752273000-1752289200@unfilteredpresents.com
SUMMARY:Flashback Friday - 2000s Party in Singapore (11th July 2025\, Friday)
DESCRIPTION:Hi\, I’m Unfiltered and you’re watching DisNick Flashback Friday BAH BAH BAHH BAHHHHHH~ \nThat’s right\, Disney X Nickelodeon Night is BACK.\nIts time to Break Free and channel your inner Gabriella and Troy\, we are gonna sing and dance our hearts out the OG Disney and Nickelodeon Hits. Cause we got records on our fingers and we just can’t STOP.🪩✋ \nBut don’t worry\, we will of course still be spinning your fav top 2000 hits from Ne-Yo\, Rihanna to Avril Lavigne & MORE!!!💃💃💃 \nWe’re all in this together! 🎶 \nEvent Details: \n🗓: 11th July 2025 \n🕙: 10:30 PM – 3:00 AM \n📍: Hard Rock Cafe \n—————————————— \nTickets \n– Early Bird Ticket: $23 \n– General Admissions: $28 \n– Event Day Ticket: $32 \nTable reservations* \n– Table Reservation: 5-pax | $400 min. spend (Deposit) \n– Table Reservation: 10-pax | $800 min. spend (Deposit) \n*Organiser will contact guests via Eventbrite messaging to confirm table reservation! \n—————————————— \n🔞 This is an 18-year-old and above event (Present physical ID or SingPass) \n⛔ Standard club rules apply\, no slippers or sandals. Shorts allowed. \n🚫 No refunds of tickets allowed. \n🥂 Table reservations deposit will be refunded once pre-ordered bottles have been paid for. No refunds will be given for no-show. \n📸 By attending the event\, the organizer reserves the right to use photographs or videos taken during the event for advertising or publicity purposes.
URL:https://unfilteredpresents.com/event/flashback-friday-13th-june-2025-2-2/
LOCATION:50 Cuscaden Rd\, #02-01 Hpl House\, Singapore 249724
ATTACH;FMTTYPE=image/webp:https://unfilteredpresents.com/wp-content/uploads/2025/06/Artboard-1.webp
END:VEVENT
BEGIN:VEVENT
DTSTART;TZID=Asia/Singapore:20250725T223000
DTEND;TZID=Asia/Singapore:20250726T030000
DTSTAMP:20260420T154014
CREATED:20250707T085051Z
LAST-MODIFIED:20250707T081843Z
UID:21945-1753482600-1753498800@unfilteredpresents.com
SUMMARY:EDM Anthems by UnfilteredPresents (25th July 2025\, Friday)
DESCRIPTION:We heard your battle cries🫡 EDM ANTHEMS IS BACK AND HERE TO STAY ALL NIGHT. \nDon’t You Worry Child\, We’re bringing the golden & new age of EDM straight to the dancefloor: Avicii\, Calvin Harris\, Zedd\, David Guetta\, Martin Garrix\, and MORE. \nCome get with me cause I like my beats fast and my bass down low. \n#DropItLikeItsEDM \nEvent Details:\n🗓: 25th July 2025 🧡 \n🕙: 10:30 PM – 3:00 AM \n📍: Pulse Singapore (179020) \n—————————————— \nTickets \n– Early Bird Ticket: $23 \n– General Admissions: $28 \n– Event Day Ticket: $32 \nTable reservations* \n– Table Reservation: 5-pax | $400 min. spend (Deposit) \n– Sofa Reservation: 10-pax | $800 min. spend (Deposit) \n*Organiser will contact guests via Eventbrite messaging to confirm table reservation! \n—————————————— \n🔞 This is an 18-year-old and above event (Present physical ID or SingPass) \n⛔ Standard club rules apply\, no slippers or sandals. Shorts allowed. \n🚫 No refunds of tickets allowed. \n🥂 Table reservations deposit will be refunded once pre-ordered bottles have been paid for. No refunds will be given for no-show. \n📸 By attending the event\, the organizer reserves the right to use photographs or videos taken during the event for advertising or publicity purposes.
URL:https://unfilteredpresents.com/event/pop-girls-club-taylors-version-by-unfilteredpresents-30th-may-2025-friday-2/
LOCATION:Pulse Singapore\, 3A River Valley Road\, #01-02 Clarke Quay\, Singapore\, Singapore\, 179020\, Singapore
ATTACH;FMTTYPE=image/webp:https://unfilteredpresents.com/wp-content/uploads/2025/07/main-3.webp
ORGANIZER;CN="UnfilteredPresents":MAILTO:info@unfiltered.sg
END:VEVENT
BEGIN:VEVENT
DTSTART;TZID=Asia/Singapore:20250808T223000
DTEND;TZID=Asia/Singapore:20250809T030000
DTSTAMP:20260420T154014
CREATED:20250729T043012Z
LAST-MODIFIED:20250729T041621Z
UID:21950-1754692200-1754708400@unfilteredpresents.com
SUMMARY:Flashback Friday - 2000s Party in Singapore (8th August 2025\, Friday)
DESCRIPTION:THIS IS HOME TRULY. SG60 is here and we turn 3!!! Time to let your patriotism SHINE at OUR BIGGEST PARTY YET.🇸🇬🎉 \nWe are gonna relive our childhoods with 2000s hit from Avril Lavigne\, Justin Bieber\, Britney Spear & MORE. \nBut of course we are civilised\, so we are gonna party and Chan Mali Chan to our favs like Dick Lee and Stefanie Sun \nStand Up For Singapore & See you there. \nEvent Details: \n🗓: 8th August 2025 \n🕙: 10:30 PM – 3:00 AM \n📍: Hard Rock Cafe \n🎟 Tickets drop at NOW! Don’t miss out! \n—————————————— \nTickets \n– Early Bird Ticket: $23 \n– General Admissions: $28 \n– Event Day Ticket: $32 \nTable reservations* \n– Table Reservation: 5-pax | $400 min. spend (Deposit) \n– Table Reservation: 10-pax | $800 min. spend (Deposit) \n*Organiser will contact guests via Eventbrite messaging to confirm table reservation! \n—————————————— \n🔞 This is an 18-year-old and above event (Present physical ID or SingPass) \n⛔ Standard club rules apply\, no slippers or sandals. Shorts allowed. \n🚫 No refunds of tickets allowed. \n🥂 Table reservations deposit will be refunded once pre-ordered bottles have been paid for. No refunds will be given for no-show. \n📸 By attending the event\, the organizer reserves the right to use photographs or videos taken during the event for advertising or publicity purposes.
URL:https://unfilteredpresents.com/event/flashback-friday-13th-june-2025-2-2-2/
LOCATION:50 Cuscaden Rd\, #02-01 Hpl House\, Singapore 249724
ATTACH;FMTTYPE=image/webp:https://unfilteredpresents.com/wp-content/uploads/2025/07/Artboard-1-1.webp
ORGANIZER;CN="UnfilteredPresents":MAILTO:info@unfiltered.sg
END:VEVENT
BEGIN:VEVENT
DTSTART;TZID=Asia/Singapore:20250814T000000
DTEND;TZID=Asia/Singapore:20250913T000000
DTSTAMP:20260420T154014
CREATED:20250814T045126Z
LAST-MODIFIED:20250814T045126Z
UID:21955-1755129600-1757721600@unfilteredpresents.com
SUMMARY:Flashback Friday (Bieber Fever) - 2000s Party (12th Sept 2025)
DESCRIPTION:Nobody panic\, because BABY\, Bieber Fever is back! \nWe’re running back to an HOUR of Baby Biebs because honestly\, we’ve been Stuck In The Moment ever since Justin was our Runaway Love.Don’t worry\, we’re still throwing it back to the 2000s with songs from your all time favourite artists like Taylor Swift\, Rihanna\, Pitbull\, Disney throwback and a whole lot more! \nEvent Details: \n🗓: 12th Sept 2025 \n🕙: 10:30 PM – 3:00 AM \n📍: Blu Jaz\, Clarke Quay Central \n🎟 Tickets drop at NOW! Don’t miss out! \n—————————————— \nTickets \n– Early Bird Ticket: $23 \n– General Admissions: $28 \n– Event Door Ticket: $32 \nTable reservations* \n\nTable Reservation: 4-pax | $300 min. spend (Deposit)\nTable Reservation: 5-pax | $400 min. spend (Deposit)\nSofa Reservation: 10-pax | $800 min. spend (Deposit)\n\n*Organiser will contact guests via Eventbrite messaging to confirm table reservation! \n—————————————— \n🔞 This is an 18-year-old and above event (Present physical ID or SingPass) \n⛔ Standard club rules apply\, no shorts\, slippers or sandals. Sleeveless not allowed for men. \n🚫 No refunds of tickets allowed. \n🥂 Table reservations deposit will be refunded once pre-ordered bottles have been paid for. No refunds will be given for no-show. \n📸 By attending the event\, the organizer reserves the right to use photographs or videos taken during the event for advertising or publicity purposes.
URL:https://unfilteredpresents.com/event/flashback-friday-20/
LOCATION:Blu Jaz\, Clarke Quay
ATTACH;FMTTYPE=image/jpeg:https://unfilteredpresents.com/wp-content/uploads/2025/08/bieber-fever-main-post.jpg
ORGANIZER;CN="UnfilteredPresents":MAILTO:info@unfiltered.sg
END:VEVENT
END:VCALENDAR