BEGIN:VCALENDAR
VERSION:2.0
PRODID:-//UnfilteredPresents - ECPv6.5.0//NONSGML v1.0//EN
CALSCALE:GREGORIAN
METHOD:PUBLISH
X-WR-CALNAME:UnfilteredPresents
X-ORIGINAL-URL:https://unfilteredpresents.com
X-WR-CALDESC:Events for UnfilteredPresents
REFRESH-INTERVAL;VALUE=DURATION:PT1H
X-Robots-Tag:noindex
X-PUBLISHED-TTL:PT1H
BEGIN:VTIMEZONE
TZID:UTC
BEGIN:STANDARD
TZOFFSETFROM:+0000
TZOFFSETTO:+0000
TZNAME:UTC
DTSTART:20230101T000000
END:STANDARD
END:VTIMEZONE
BEGIN:VEVENT
DTSTART;TZID=UTC:20230505T223000
DTEND;TZID=UTC:20230506T030000
DTSTAMP:20260423T150906
CREATED:20230418T020750Z
LAST-MODIFIED:20230830T022044Z
UID:21476-1683325800-1683342000@unfilteredpresents.com
SUMMARY:Flashback Friday - 2000s Party Anthems (5th May 2023)
DESCRIPTION:UNfiltered.sg Presents Flashback Friday’s NEW pop-up! \nFlashback Friday is having its very first pop-up event at Majesty Chen and it’s representing the Y2K PARTY ANTHEMS. Get ready to hit the dance floor with throwback hits from artists like Flo Rida\, Taio Cruz\, Black Eyed Peas\, Rihanna\, Usher\, Lady Gaga and many more! \nThis pop-up has extremely limited slots available so grab your tickets early! \nCome dressed in your best 2000s-themed clothing and take a time machine back to the 2000s!\n\n🔞 This is an 18-year-old and above event.\n😷 Masks are optional.\n💉 Pre-event testing no longer required.\n⛔ Standard club rules apply. \nPlease fill up this form for table reservations.
URL:https://unfilteredpresents.com/event/flashback-friday-050523/
LOCATION:Majesty Chen\, 138 Robinson Road\, #20-02\, Lobby\, #1 Oxley Tower\, 068906
ATTACH;FMTTYPE=image/webp:https://unfilteredpresents.com/wp-content/uploads/2023/04/fbfbfbf-final2.webp
ORGANIZER;CN="UnfilteredPresents":MAILTO:info@unfiltered.sg
END:VEVENT
BEGIN:VEVENT
DTSTART;TZID=UTC:20230407T223000
DTEND;TZID=UTC:20230408T030000
DTSTAMP:20260423T150906
CREATED:20230403T195126Z
LAST-MODIFIED:20230830T022107Z
UID:21466-1680906600-1680922800@unfilteredpresents.com
SUMMARY:Flashback Friday - 2000s Party in Singapore (7th April 2023)
DESCRIPTION:UNfiltered.sg Presents FLASHBACK FRIDAY!\n\nWanna dance and sing your lungs out to your favorite 2000s top hits all night? Then this is not a night to miss! Playing songs from Britney Spears\, Usher\, Eminem\, Avril Lavigne\, Maroon 5\, Taylor Swift\, and even some High School Musical singalongs\, we have everything queued up! \nCome dressed in your best 2000s-themed clothing and take a time machine back to the 2000s!\n\n🔞 This is an 18-year-old and above event.\n😷 Masks are optional.\n💉 Pre-event testing no longer required.\n⛔ Standard club rules apply. \nPlease fill up this form for table reservations.
URL:https://unfilteredpresents.com/event/flashback-friday-070322/
LOCATION:Hard Rock Cafe\, 50 Cuscaden Rd\, #02-01 Hpl House\, 249724\, Singapore
ATTACH;FMTTYPE=image/webp:https://unfilteredpresents.com/wp-content/uploads/2023/04/2023-04-04-11.50.01.webp
ORGANIZER;CN="UnfilteredPresents":MAILTO:info@unfiltered.sg
END:VEVENT
END:VCALENDAR