BEGIN:VCALENDAR
VERSION:2.0
PRODID:-//UnfilteredPresents - ECPv6.5.0//NONSGML v1.0//EN
CALSCALE:GREGORIAN
METHOD:PUBLISH
X-WR-CALNAME:UnfilteredPresents
X-ORIGINAL-URL:https://unfilteredpresents.com
X-WR-CALDESC:Events for UnfilteredPresents
REFRESH-INTERVAL;VALUE=DURATION:PT1H
X-Robots-Tag:noindex
X-PUBLISHED-TTL:PT1H
BEGIN:VTIMEZONE
TZID:UTC
BEGIN:STANDARD
TZOFFSETFROM:+0000
TZOFFSETTO:+0000
TZNAME:UTC
DTSTART:20230101T000000
END:STANDARD
END:VTIMEZONE
BEGIN:VEVENT
DTSTART;TZID=UTC:20230908T223000
DTEND;TZID=UTC:20230909T223000
DTSTAMP:20260424T001331
CREATED:20230828T071358Z
LAST-MODIFIED:20230830T021131Z
UID:21521-1694212200-1694298600@unfilteredpresents.com
SUMMARY:Ibiza (Latin\, Reggaeton\, Afrobeats) Party by UnfilteredPresents
DESCRIPTION:We are bringing you IBIZA🌴 – A night for you to groove and party to your favourite Reggaeton\, Latin and Afrobeat hits from Shakira\, Rosalia\, Daddy Yankee\, Bad Bunny\, Burna Boy\, and Rema brought to you by DJ SOS and DJ Hanif. \nGrab your tickets and lace up your dancing shoes. Let’s get ready for a fiesta! \n🔞 This is an 18-year-old and above event.\n😷 Masks are optional.\n💉 Pre-event testing no longer required.\n⛔ Standard club rules apply.\n🚫 No refunds of tickets allowed. \nPlease fill up this form for table reservations!
URL:https://unfilteredpresents.com/event/block-party-hip-hop-rb-rap-by-unfilteredpresents-2/
LOCATION:The Projector X: No Spoilers Bar\, 8 Grange Rd\, #05-03\, 239695\, Singapore
ATTACH;FMTTYPE=image/webp:https://unfilteredpresents.com/wp-content/uploads/2023/08/Ibiza-0812.webp
ORGANIZER;CN="UnfilteredPresents":MAILTO:info@unfiltered.sg
END:VEVENT
BEGIN:VEVENT
DTSTART;TZID=UTC:20230915T223000
DTEND;TZID=UTC:20230916T030000
DTSTAMP:20260424T001331
CREATED:20230906T210152Z
LAST-MODIFIED:20230912T043705Z
UID:21594-1694817000-1694833200@unfilteredpresents.com
SUMMARY:One Night In Seoul - KPOP Party in Singapore (15th Sep 2023)
DESCRIPTION:It’s time to sing and dance again at Singapore’s hottest kpop night party – One Night in Seoul! 💃 \n\n\n\nWe heard you loud and clear – the night and the dance floor is all yours. If you’re down for a night full of singing and dancing to your favourite k-pop bangers from all generations\, don’t miss out! \n\n\nJoin us for an unforgettable night with @_djorfeus and @its.me.brizzy at Hard Rock Cafe!\nFill up this Form for table reservations! \n🔞 This is an 18-year-old and above event (Present physical ID or SingPass)\n⛔ Standard club rules apply\, no slippers or sandals.\n🚫 No refunds of tickets allowed.\n📸 Organizer reserves the right to use photographs or videos taken during the event for advertising or publicity purposes.\n\n\n\n\n\n\n\n\n\n 
URL:https://unfilteredpresents.com/event/onenightinseoul-120423-2-2/
LOCATION:Hard Rock Cafe\, 50 Cuscaden Rd\, #02-01 Hpl House\, 249724\, Singapore
ATTACH;FMTTYPE=image/webp:https://unfilteredpresents.com/wp-content/uploads/2023/09/final-onis-15-sep.webp
ORGANIZER;CN="UnfilteredPresents":MAILTO:info@unfiltered.sg
END:VEVENT
BEGIN:VEVENT
DTSTART;TZID=UTC:20230929T223000
DTEND;TZID=UTC:20230930T030000
DTSTAMP:20260424T001331
CREATED:20230923T213112Z
LAST-MODIFIED:20230923T213112Z
UID:21624-1696026600-1696042800@unfilteredpresents.com
SUMMARY:Flashback Friday - 2000s Party in Singapore (24th September 2023)
DESCRIPTION:For ONE HOUR of the night\, you get to delve into a spectacular night of Gaga Glamour and party to your favourite hits like Poker Face\, Telephone\, Bad Romance\, Born This Way\, and many more! 🥹 \nDon’t forget to dance🕺💃 and sing at the top of your voices to all your other favourite 2000s hits for the rest of the night with songs from Britney Spears\, Usher\, Eminem\, Avril Lavigne\, Maroon 5\, Taylor Swift and even some High School Musical singalongs. \nJoin us for a night of nostalgia with @djgainzter & @kiddroyalemusic at @hardrockcafesingapore! 🤘 \n🔞 This is an 18-year-old and above event (Present physical ID or SingPass)\n⛔ Standard club rules apply\, no slippers or sandals.\n🚫 No refunds of tickets allowed.\n📸 Organizer reserves the right to use photographs or videos taken during the event for advertising or publicity purposes. \nFill up this form for table reservations!
URL:https://unfilteredpresents.com/event/flashback-friday-140723-2-2/
LOCATION:Hard Rock Cafe\, 50 Cuscaden Rd\, #02-01 Hpl House\, 249724\, Singapore
ATTACH;FMTTYPE=image/webp:https://unfilteredpresents.com/wp-content/uploads/2023/09/HAUS-OF-GAGA2.webp
ORGANIZER;CN="UnfilteredPresents":MAILTO:info@unfiltered.sg
END:VEVENT
END:VCALENDAR