BEGIN:VCALENDAR
VERSION:2.0
PRODID:-//UnfilteredPresents - ECPv6.5.0//NONSGML v1.0//EN
CALSCALE:GREGORIAN
METHOD:PUBLISH
X-WR-CALNAME:UnfilteredPresents
X-ORIGINAL-URL:https://unfilteredpresents.com
X-WR-CALDESC:Events for UnfilteredPresents
REFRESH-INTERVAL;VALUE=DURATION:PT1H
X-Robots-Tag:noindex
X-PUBLISHED-TTL:PT1H
BEGIN:VTIMEZONE
TZID:UTC
BEGIN:STANDARD
TZOFFSETFROM:+0000
TZOFFSETTO:+0000
TZNAME:UTC
DTSTART:20230101T000000
END:STANDARD
TZID:Asia/Singapore
BEGIN:STANDARD
TZOFFSETFROM:+0800
TZOFFSETTO:+0800
TZNAME:+08
DTSTART:20230101T000000
END:STANDARD
END:VTIMEZONE
BEGIN:VEVENT
DTSTART;TZID=UTC:20231020T223000
DTEND;TZID=UTC:20231021T023000
DTSTAMP:20260423T223714
CREATED:20231009T192450Z
LAST-MODIFIED:20231009T192450Z
UID:21628-1697841000-1697855400@unfilteredpresents.com
SUMMARY:Block Party (Hip-hop\, R&B\, Rap) by UnfilteredPresents
DESCRIPTION:UnfilteredPresents is bringing Block Party to you! \nFrom the streets to the stage\, UnfilteredPresent’s Block Party celebrates the Hip-Hop\, R&B and Rap scene as we groove the night away to old AND new school Hip-Hop featuring a 2-hour segment of hits from artists under Universal Music Singapore – Post Malone\, Drake\, Nicki Minaj\, Eminem and many other amazing artists! \nJoin us for a night with @slumsofshafiq & @its.mc.brizzy at @projectorx! 🤘 \n🗓️ Oct 20\, Friday Nite\n🕙 10:30PM – 2:30AM\n📍Projector X: No Spoilers Bar \nTickets:\n– Block Party or HipHop Halloween Early Bird: $28\n– Block Party or HipHop Halloween General Admission: $30\n– 2-day Early Bird: $50\n– 2-day General Admission: $55\n– Block Party or HipHop Halloween Event Day Ticket: $35 \nPlease fill up this form for table reservations!
URL:https://unfilteredpresents.com/event/block-party-hip-hop-rb-rap-by-unfilteredpresents-3/
LOCATION:The Projector X: No Spoilers Bar\, 8 Grange Rd\, #05-03\, 239695\, Singapore
ATTACH;FMTTYPE=image/webp:https://unfilteredpresents.com/wp-content/uploads/2023/10/FINAL-BLOCKPARTY-LOCOXUNFILTERED.webp
ORGANIZER;CN="UnfilteredPresents":MAILTO:info@unfiltered.sg
END:VEVENT
BEGIN:VEVENT
DTSTART;TZID=Asia/Singapore:20231028T223000
DTEND;TZID=Asia/Singapore:20231029T223000
DTSTAMP:20260423T223714
CREATED:20231028T000628Z
LAST-MODIFIED:20231022T091934Z
UID:21631-1698532200-1698618600@unfilteredpresents.com
SUMMARY:Flashback Saturday - 2000s Party in Singapore (28th October 2023)
DESCRIPTION:UnfilteredPresents brings you another night of the 2000s but this time with a spooky twist!\nJoin us for a night of nostalgia and creepy fun! 🎃 \nWanna dance and sing your lungs out to your favourite 2000s top hits all night? Then this is not a night to miss! Playing songs from Britney Spears\, Usher\, Eminem\, Avril Lavigne\, Maroon 5\, Taylor Swift and even some High School Musical singalongs\, we have everything queued up! \nCome dressed up in your costumes and take a time machine back to the 2000s! 👻 \n————————————————————————————- \nTickets\n–  Early Bird Ticket: $28 [Sold Out]\n– General Admissions: $30\n– Event Day Ticket: $35 \nEarly bird tickets brought to you by Dunrobin\, our official Whisky partner. \n  \nTable reservations\n– Table Reservation: 5-pax | $500 min. spend (Deposit)\n– Table Reservation: 10-pax | $700 min. spend (Deposit) \n——————————————————————————— \n🔞 This is an 18-year-old and above event (Present physical ID or SingPass)\n⛔ Standard club rules apply\, no slippers or sandals. Shorts allowed.\n🚫 No refunds of tickets allowed.\n🥂 Table reservations deposit will be refunded once pre-ordered bottles have been paid for. No refunds will be given for no-show.\n📸 Organizer reserves the right to use photographs or videos taken during the event for advertising or publicity purposes. \n﻿
URL:https://unfilteredpresents.com/event/flashback-friday-140723-2-2-2/
LOCATION:Yoasobi by Kanpai\, 33-35 Pekin St\, #01-01\, 048763\, Singapore
ATTACH;FMTTYPE=image/webp:https://unfilteredpresents.com/wp-content/uploads/2023/10/fbsatsatsat.webp
ORGANIZER;CN="UnfilteredPresents":MAILTO:info@unfiltered.sg
END:VEVENT
END:VCALENDAR