BEGIN:VCALENDAR
VERSION:2.0
PRODID:-//UnfilteredPresents - ECPv6.5.0//NONSGML v1.0//EN
CALSCALE:GREGORIAN
METHOD:PUBLISH
X-WR-CALNAME:UnfilteredPresents
X-ORIGINAL-URL:https://unfilteredpresents.com
X-WR-CALDESC:Events for UnfilteredPresents
REFRESH-INTERVAL;VALUE=DURATION:PT1H
X-Robots-Tag:noindex
X-PUBLISHED-TTL:PT1H
BEGIN:VTIMEZONE
TZID:UTC
BEGIN:STANDARD
TZOFFSETFROM:+0000
TZOFFSETTO:+0000
TZNAME:UTC
DTSTART:20230101T000000
END:STANDARD
END:VTIMEZONE
BEGIN:VEVENT
DTSTART;TZID=UTC:20231117T223000
DTEND;TZID=UTC:20231118T030000
DTSTAMP:20260423T205411
CREATED:20231108T020115Z
LAST-MODIFIED:20231108T020115Z
UID:21638-1700260200-1700276400@unfilteredpresents.com
SUMMARY:Flashback Friday - 2000s Party in Singapore (17th November 2023)
DESCRIPTION:Dust off your cargo pants\, baby tees\, and low-rise jeans because it’s time for another night of Flashback Friday! \nWanna dance and sing your lungs out to your favourite 2000s top hits all night? Then this is not a night to miss! Playing songs from Britney Spears\, Usher\, Eminem\, Avril Lavigne\, Maroon 5\, Taylor Swift and even some High School Musical singalongs\, we have everything queued up! \nCome dressed up in your costumes and take a time machine back to the 2000s! 👻 \n————————————————————————————- \nTickets\n– Early Bird Ticket: $28\n– General Admissions: $30\n– Event Day Ticket: $35 \nTable reservations*\n– Table Reservation: 5-pax | $400 min. spend (Deposit)\n– Table Reservation: 10-pax | $800 min. spend (Deposit) \n*Organiser will contact guests via Peatix messaging to confirm table reservation \n——————————————————————————— \n🔞 This is an 18-year-old and above event (Present physical ID or SingPass)\n⛔ Standard club rules apply\, no slippers or sandals. Shorts allowed.\n🚫 No refunds of tickets allowed.\n🥂 Table reservations deposit will be refunded once pre-ordered bottles have been paid for. No refunds will be given for no-show.\n📸 Organizer reserves the right to use photographs or videos taken during the event for advertising or publicity purposes.
URL:https://unfilteredpresents.com/event/flashback-friday-140723-2-2-2-2/
LOCATION:Hard Rock Cafe\, 50 Cuscaden Rd\, #02-01 Hpl House\, 249724\, Singapore
ATTACH;FMTTYPE=image/webp:https://unfilteredpresents.com/wp-content/uploads/2023/11/fbf17novemberpost.webp
ORGANIZER;CN="UnfilteredPresents":MAILTO:info@unfiltered.sg
END:VEVENT
BEGIN:VEVENT
DTSTART;TZID=UTC:20231124T223000
DTEND;TZID=UTC:20231125T223000
DTSTAMP:20260423T205411
CREATED:20231108T020613Z
LAST-MODIFIED:20231108T020622Z
UID:21635-1700865000-1700951400@unfilteredpresents.com
SUMMARY:One Night In Seoul - KPOP Party in Singapore (24th November\, Friday)
DESCRIPTION:It’s time to sing and dance again at Singapore’s hottest k-pop party – One Night in Seoul! 💃 \nWe heard you loud and clear\, the night and the dancefloor is all yours. So get your dance moves ready! \nIf you’re down for a night full of singing and dancing to your favourite k-pop bangers from all generations\, don’t miss out! \nJoin us for an unforgettable night with DJ Leroy & DJ CLAMMR at Dirty Blonde! \n———————————————- \nTickets \n\nEarly Bird Ticket w/ 1 free drink: $28\nGeneral Admissions w/ 1 free drink: $30\nEvent Day Ticket w/ 1 free drink: $35\n\nTable reservations \n\n5-pax | $360 w/ 2 house pour bottles (Deposit)\n5-pax | $400 w/ 2 hours premium bottles (Deposit)\n10-pax | $720 w/ 4 house pour bottles (Deposit)\n10-pax | $800 w/ 4 premium pour bottles (Deposit)\n\nHouse Pours (includes 6 standard can mixers)\n– Smirnoff Vodka\n– Gordon’s Gin\n– Jose Cuervo Tequila\n– Bacardi White Rum\n– Ballentines Whisky \nPremium Bottle (includes 6 standard can mixers)\n– Grey Goose Vodka\n– Hendricks Gin\n– Monkey Shoulder Whisky \n———————————————- \n🔞 This is an 18-year-old and above event (Present physical ID or SingPass)\n⛔ Standard club rules apply\, no slippers or sandals. Shorts allowed.\n🚫 No refunds of tickets allowed.\n🥂 Table reservations deposit will be refunded once pre-ordered bottles have been paid for. No refunds will be given for no-show.\n📸 Organizer reserves the right to use photographs or videos taken during the event for advertising or publicity purposes.
URL:https://unfilteredpresents.com/event/onenightinseoul-120423-2-2-2/
LOCATION:The Projector X: No Spoilers Bar\, 8 Grange Rd\, #05-03\, 239695\, Singapore
ATTACH;FMTTYPE=image/webp:https://unfilteredpresents.com/wp-content/uploads/2023/11/2411ticketer-onis-copy.webp
ORGANIZER;CN="UnfilteredPresents":MAILTO:info@unfiltered.sg
END:VEVENT
END:VCALENDAR