BEGIN:VCALENDAR
VERSION:2.0
PRODID:-//UnfilteredPresents - ECPv6.5.0//NONSGML v1.0//EN
CALSCALE:GREGORIAN
METHOD:PUBLISH
X-ORIGINAL-URL:https://unfilteredpresents.com
X-WR-CALDESC:Events for UnfilteredPresents
REFRESH-INTERVAL;VALUE=DURATION:PT1H
X-Robots-Tag:noindex
X-PUBLISHED-TTL:PT1H
BEGIN:VTIMEZONE
TZID:UTC
BEGIN:STANDARD
TZOFFSETFROM:+0000
TZOFFSETTO:+0000
TZNAME:UTC
DTSTART:20230101T000000
END:STANDARD
END:VTIMEZONE
BEGIN:VEVENT
DTSTART;TZID=UTC:20231215T223000
DTEND;TZID=UTC:20231216T023000
DTSTAMP:20260423T193449
CREATED:20231211T001634Z
LAST-MODIFIED:20231211T001634Z
UID:21643-1702679400-1702693800@unfilteredpresents.com
SUMMARY:One Night In Seoul - KPOP Party in Singapore (15th December\, Friday)
DESCRIPTION:It’s time to say goodbye to Singapore’s hottest K-pop party at our LAST One Night In Seoul … of the year! 👀 \nWe’re ending off the year at Projector X: No Spoilers Bar’s BRAND NEW SPACE that is bigger and better than ever. Don’t worry\, the dance floor is big enough for everyone now! \nDon’t miss out on a full night of singing and dancing to your favourite k-pop bangers from all generations. \nJoin us for an unforgettable night with DJ Brizzy & DJ Orfeus at Projector X: No Spoilers Bar! \n———————————————- \nTickets  \n\nEarly Bird Ticket w/ 1 free drink: $28\nGeneral Admissions w/ 1 free drink: $30\nEvent Day Ticket w/ 1 free drink: $35\n\nTable Reservations\n \n\n5-pax | $360 w/ 2 hours pour bottles (Deposit)\n5-pax | $400 w/ 2 premium bottles (Deposit)\n10-pax | $720 w/ 4 house pour bottles (Deposit)\n10-pax | $800 w/ 4 premium pour bottles (Deposit)\n\nHouse Pours (includes 6 standard can mixers)\n– Smirnoff Vodka\n– Gordon’s Gin\n– Jose Cuervo Tequila\n– Bacardi White Rum\n– Ballentines Whisky \nPremium Bottle (includes 6 standard can mixers)\n– Grey Goose Vodka\n– Hendricks Gin\n– Monkey Shoulder Whisky \n———————————————- \n🔞 This is an 18-year-old and above event (Present physical ID or SingPass)\n⛔ Standard club rules apply\, no slippers or sandals. Shorts allowed.\n🚫 No refunds of tickets allowed.\n🥂 Table reservations deposit will be refunded once pre-ordered bottles have been paid for. No refunds will be given for no-show.\n📸 Organizer reserves the right to use photographs or videos taken during the event for advertising or publicity purposes.
URL:https://unfilteredpresents.com/event/onenightinseoul-120423-2-2-2-2/
LOCATION:The Projector X: No Spoilers Bar\, 8 Grange Rd\, #05-03\, 239695\, Singapore
ATTACH;FMTTYPE=image/webp:https://unfilteredpresents.com/wp-content/uploads/2023/12/2023-12-11-16.13.17.webp
ORGANIZER;CN="UnfilteredPresents":MAILTO:info@unfiltered.sg
END:VEVENT
END:VCALENDAR