BEGIN:VCALENDAR
VERSION:2.0
PRODID:-//UnfilteredPresents - ECPv6.5.0//NONSGML v1.0//EN
CALSCALE:GREGORIAN
METHOD:PUBLISH
X-ORIGINAL-URL:https://unfilteredpresents.com
X-WR-CALDESC:Events for UnfilteredPresents
REFRESH-INTERVAL;VALUE=DURATION:PT1H
X-Robots-Tag:noindex
X-PUBLISHED-TTL:PT1H
BEGIN:VTIMEZONE
TZID:Asia/Singapore
BEGIN:STANDARD
TZOFFSETFROM:+0800
TZOFFSETTO:+0800
TZNAME:+08
DTSTART:20250101T000000
END:STANDARD
END:VTIMEZONE
BEGIN:VEVENT
DTSTART;TZID=Asia/Singapore:20250110T223000
DTEND;TZID=Asia/Singapore:20250111T030000
DTSTAMP:20260422T221016
CREATED:20241226T093829Z
LAST-MODIFIED:20241227T025552Z
UID:21877-1736548200-1736564400@unfilteredpresents.com
SUMMARY:Flashback Friday by UnfilteredPresents (10th Jan 2025)
DESCRIPTION:Pop Queens but Flashback Version? Sign me up!! 🙋🏻‍♀️🙋🏻‍♀️ \nWe’re throwing it all the way back with the iconic Queens of the 2000s—think Avril Lavigne\, Lady Gaga\, Britney Spears\, Rihanna\, and so many more. These legends didn’t just top the charts; they defined our childhoods! 👑 Get ready to party like it’s 2005\, and don’t forget to bring your best Y2K vibes. Dress to impress (and maybe catch someone’s eye 👀). It’s time to level 🆙🆙🆙! \nEvent Details: \n🗓: 10 January 2025\n🕙: 10:30PM – 3:00AM\n📍: Hard Rock Cafe \n—————————————— \nTickets\n– Early Bird Ticket: $23\n– General Admissions: $28\n– Event Day Ticket: $32 \nTable reservations*\n– Table Reservation: 5-pax | $400 min. spend (Deposit)\n– Table Reservation: 10-pax | $800 min. spend (Deposit)\n*Organiser will contact guests via Eventbrite messaging to confirm table reservation! \n—————————————— \n🔞 This is an 18-year-old and above event (Present physical ID or SingPass)\n⛔ Standard club rules apply\, no slippers or sandals. Shorts allowed.\n🚫 No refunds of tickets allowed.\n🥂 Table reservations deposit will be refunded once pre-ordered bottles have been paid for. No refunds will be given for no-show.\n📸 By attending the event\, the organizer reserves the right to use photographs or videos taken during the event for advertising or publicity purposes.
URL:https://unfilteredpresents.com/event/theerastourpregame-2-2/
LOCATION:Hard Rock Cafe\, 50 Cuscaden Rd\, #02-01 Hpl House\, 249724\, Singapore
ATTACH;FMTTYPE=image/webp:https://unfilteredpresents.com/wp-content/uploads/2024/12/main.webp
END:VEVENT
BEGIN:VEVENT
DTSTART;TZID=Asia/Singapore:20250124T223000
DTEND;TZID=Asia/Singapore:20250124T223000
DTSTAMP:20260422T221016
CREATED:20250113T030026Z
LAST-MODIFIED:20250113T030059Z
UID:21880-1737757800-1737757800@unfilteredpresents.com
SUMMARY:Pop Girls Club by UnfilteredPresents (24th January 2025\, Friday)
DESCRIPTION:Gong Xi Gong Xi! Celebrate the Lunar New Year with Pop Girls Club. Sure to bring you all the luck\, blessings\, and non-stop fun! 🪭🐉 \nGet ready to party with your favourite pop girlies — Ariana Grande\, Olivia Rodrigo\, Sabrina Carpenter\, Doja Cat\, and more! Time to turn it up and let the celebrations begin! 🧧❤️ \nEvent Details: \n🗓: 24th January 2025 💖 \n🕙: 10:30 PM – 3:00 AM \n📍: Crystal Fairy S(059923) \n——————————————\nTickets\n– Early Bird Ticket: $23\n– General Admissions: $28\nThere will be no walk-ins for this event. \nTable reservations*\n– Table Reservation: 5-pax | $400 min. spend (Deposit)\n– Table Reservation: 10-pax | $800 min. spend (Deposit)\n*Organiser will contact guests via Eventbrite messaging to confirm table reservation! \n—————————————— \n🔞 This is an 18-year-old and above event (Present physical ID or SingPass)\n⛔️ Standard club rules apply\, no slippers or sandals. Shorts allowed.\n🚫 No refunds of tickets allowed.\n🥂 Table reservations deposit will be refunded once pre-ordered bottles have been paid for. No refunds will be given for no-show.\n📸 By attending the event\, the organizer reserves the right to use photographs or videos taken during the event for advertising or publicity purposes.
URL:https://unfilteredpresents.com/event/pop-girls-club-by-unfilteredpresents-1stnov-friday-2/
LOCATION:crystal fairy\, 29 Carpenter St\, Singapore 059923\, Singapore\, 059923\, Singapore
ATTACH;FMTTYPE=image/webp:https://unfilteredpresents.com/wp-content/uploads/2025/01/cnygals_igpost.webp
END:VEVENT
END:VCALENDAR