BEGIN:VCALENDAR
VERSION:2.0
PRODID:-//UnfilteredPresents - ECPv6.5.0//NONSGML v1.0//EN
CALSCALE:GREGORIAN
METHOD:PUBLISH
X-WR-CALNAME:UnfilteredPresents
X-ORIGINAL-URL:https://unfilteredpresents.com
X-WR-CALDESC:Events for UnfilteredPresents
REFRESH-INTERVAL;VALUE=DURATION:PT1H
X-Robots-Tag:noindex
X-PUBLISHED-TTL:PT1H
BEGIN:VTIMEZONE
TZID:Asia/Singapore
BEGIN:STANDARD
TZOFFSETFROM:+0800
TZOFFSETTO:+0800
TZNAME:+08
DTSTART:20250101T000000
END:STANDARD
END:VTIMEZONE
BEGIN:VEVENT
DTSTART;TZID=Asia/Singapore:20250516T223000
DTEND;TZID=Asia/Singapore:20250517T030000
DTSTAMP:20260420T153848
CREATED:20250419T134150Z
LAST-MODIFIED:20250506T025348Z
UID:21914-1747434600-1747450800@unfilteredpresents.com
SUMMARY:Flashback Friday (Lady Gaga Hour) 2000s Party by UnfilteredPresents (16th May 2025\, Friday)
DESCRIPTION:Alright little monsters\, this one’s for you and everyone who knows the power of a Gaga dance floor moment \nbecause when the clock strikes Gaga o’clock? We will be serving you a full hour of LADY GAGA this Flashback Friday — Bad Romance\, Poker Face\, Just Dance\, all of it 🖤 \nDon’t worry because we’re still going back to the 2000s chaos you know and love. Like Britney\, Usher\, Kesha\, Rihanna! It’s still your fave 2000s throwback night — just with an extra sprinkle of Mother Monster magic. \nSee you on the dance floor\, lil monsters 🖤 \nEvent Details: \n🗓: 16 May 2025 \n🕙: 10:30 PM – 3:00 AM \n📍: Blu Jazz\, Clarke Quay Central \n—————————————— \nTickets \n– Early Bird Ticket: $23 \n– General Admissions: $28 \n– Event Day Ticket: $32 \nTable reservations* \n– Table Reservation: 5-pax | $400 min. spend (Deposit) \n– Sofa Reservation: 10-pax | $800 min. spend (Deposit) \n*Organiser will contact guests via Eventbrite messaging to confirm table reservation! \n—————————————— \n🔞 This is an 18-year-old and above event (Present physical ID or SingPass) \n⛔ Standard club rules apply\, no slippers or sandals. Shorts allowed. \n🚫 No refunds of tickets allowed. \n🥂 Table reservations deposit will be refunded once pre-ordered bottles have been paid for. No refunds will be given for no-show. \n📸 By attending the event\, the organizer reserves the right to use photographs or videos taken during the event for advertising or publicity purposes.
URL:https://unfilteredpresents.com/event/9thmay2025fridayflashback-friday-gagahour/
LOCATION:Blu Jaz\, Clarke Quay
ATTACH;FMTTYPE=image/webp:https://unfilteredpresents.com/wp-content/uploads/2025/04/gagahour_fbf_main.webp
ORGANIZER;CN="UnfilteredPresents":MAILTO:info@unfiltered.sg
END:VEVENT
BEGIN:VEVENT
DTSTART;TZID=Asia/Singapore:20250530T223000
DTEND;TZID=Asia/Singapore:20250531T030000
DTSTAMP:20260420T153848
CREATED:20250508T085517Z
LAST-MODIFIED:20250508T040751Z
UID:21922-1748644200-1748660400@unfilteredpresents.com
SUMMARY:Pop Girls Club (Taylor's Version) by UnfilteredPresents (30th May 2025\, Friday)
DESCRIPTION:But Daddy I Love Pop Girls Club! \nHey Swifties\, Taylor’s Version IS HERE\, Fresh Out The Slammer. BUT of course we will still be spinning your favourites\, from Sabrina Carpenter\, SZA\, Charli XCX and MORE. Pop Girlies and Swifties this is the PARTY 4 U!!!! 👑 \nJOIN THE DEPARTMENT. Cause I am Down Bad for Pop Girls Club. 💋💋💋 \nEvent Details: \n🗓: 30th May 2025 💖 \n🕙: 10:30 PM – 3:00 AM \n📍: Hard Rock Cafe \n—————————————— \nTickets \n– Early Bird Ticket: $23 \n– General Admissions: $28 \n– Event Day Ticket: $32 \nTable reservations* \n– Table Reservation: 5-pax | $400 min. spend (Deposit) \n– Sofa Reservation: 10-pax | $800 min. spend (Deposit) \n*Organiser will contact guests via Eventbrite messaging to confirm table reservation! \n—————————————— \n🔞 This is an 18-year-old and above event (Present physical ID or SingPass) \n⛔ Standard club rules apply\, no slippers or sandals. Shorts allowed. \n🚫 No refunds of tickets allowed. \n🥂 Table reservations deposit will be refunded once pre-ordered bottles have been paid for. No refunds will be given for no-show. \n📸 By attending the event\, the organizer reserves the right to use photographs or videos taken during the event for advertising or publicity purposes.
URL:https://unfilteredpresents.com/event/pop-girls-club-taylors-version-by-unfilteredpresents-30th-may-2025-friday/
LOCATION:Hard Rock Cafe\, 50 Cuscaden Rd\, #02-01 Hpl House\, 249724\, Singapore
ATTACH;FMTTYPE=image/webp:https://unfilteredpresents.com/wp-content/uploads/2025/05/main-2.webp
END:VEVENT
END:VCALENDAR